BEGIN:VCALENDAR
VERSION:2.0
PRODID:-//wp-events-plugin.com//7.2.3.1//EN
TZID:Europe/Paris
X-WR-TIMEZONE:Europe/Paris
BEGIN:VEVENT
UID:7-56@ligue-idf.fwfwushu.fr
DTSTART;TZID=Europe/Paris:20250413T140000
DTEND;TZID=Europe/Paris:20250413T180000
DTSTAMP:20250401T134228Z
URL:https://ligue-idf.fwfwushu.fr/evenements/atelier-de-sparring-interdisc
 iplinaire/
SUMMARY:Ateliers de sparring interdisciplinaire
DESCRIPTION:
ATTACH;FMTTYPE=image/jpeg:https://ligue-idf.fwfwushu.fr/wp-content/uploads
 /sites/7/2024/12/Ajouter-un-titre_20241219_183840_0000.png
CATEGORIES:Ateliers
LOCATION:Flip Flap\, 10 rue Cabanis \, Paris\, 75014\, France
X-APPLE-STRUCTURED-LOCATION;VALUE=URI;X-ADDRESS=10 rue Cabanis \, Paris\, 7
 5014\, France;X-APPLE-RADIUS=100;X-TITLE=Flip Flap:geo:0,0
END:VEVENT
BEGIN:VTIMEZONE
TZID:Europe/Paris
X-LIC-LOCATION:Europe/Paris
BEGIN:DAYLIGHT
DTSTART:20250330T030000
TZOFFSETFROM:+0100
TZOFFSETTO:+0200
TZNAME:CEST
END:DAYLIGHT
END:VTIMEZONE
END:VCALENDAR